Workbook
Name CFF: #REF!
Name Cotações: #REF!
Name ET: #N/A
Name ET_2: #N/A
Name Excel: #REF!
Name Excel_BuiltIn_Print_Area_1: #REF!
Name Excel_BuiltIn_Print_Area_1_1: #REF!
Name Excel_BuiltIn_Print_Area_9: #REF!
Name Excel_BuiltIn_Print_Titles_1: #REF!
Name F: #REF!
Name fim: #N/A
Name fim_2: #N/A
Name NEWPRINT10: #REF!
Name NEWPRINT2: #REF!
Name NEWPRINT3: #REF!
Name NEWPRINT4: #REF!
Name NewPrintArea: #REF!
Name NewPrintArea2: #REF!
Name NewPrintArea3: #REF!
Name NewPrintArea9: #REF!
Name PRINT10: #REF!
Name RR: #N/A
Name RR_2: #N/A
Name TITLES2: #REF!
Name total: #REF!
Name TOTAL_2: #N/A
Name TT: #N/A
Name TT_2: #N/A

Sheet RESUMO
D1: Obra | E1: Bancos | F1: B.D.I. | G1: Encargos Sociais
D2: SESC SC_MESA BRASIL FORQUILHINHA_COBERTURA_R02 | E2: SINAPI - 08/2023 - Santa Catarina | F2: 28.92 | G2: Não Desonerado
A3: Planilha Orçamentária Resumida
A4: Item | D4: Descrição | I4: Total | J4: Peso (%)
A5: =PLO!A6 -> 1 | D5: =PLO!D6 -> INSTALAÇÕES PROVISÓRIAS E SERVIÇOS INICIAIS | I5: =PLO!M10 -> 14129 | J5: =PLO!N10 -> 0.019815246
A6: =PLO!A11 -> 2 | D6: =PLO!D11 -> ADMINISTRAÇÃO DOS SERVIÇOS | I6: =PLO!M15 -> 53330.77 | J6: =PLO!N15 -> 0.07479385
A7: =PLO!A16 -> 3 | D7: =PLO!D16 -> CONCLUSÃO DOS SERVIÇOS | I7: =PLO!M20 -> 5276.84 | J7: =PLO!N20 -> 0.0074005153
A8: =PLO!A21 -> 4 | D8: =PLO!D21 -> DEMOLIÇÕES, REMOÇÕES E RETIRADAS | I8: =PLO!M26 -> 2564.52 | J8: =PLO!N26 -> 0.0035966165
A9: =PLO!A27 -> 5 | D9: =PLO!D27 -> MOVIMENTAÇÃO DE TERRA | I9: =PLO!M31 -> 3093.33 | J9: =PLO!N31 -> 0.0043382472
A10: =PLO!A32 -> 6 | D10: =PLO!D32 -> INFRAESTRUTURA | I10: =PLO!M57 -> 67651.26 | J10: =PLO!N57 -> 0.094877652
A11: =PLO!A58 -> 7 | D11: =PLO!D58 -> SUPERESTRUTURA | I11: =PLO!M104 -> 240188.65 | J11: =PLO!N104 -> 0.33685308
A12: =PLO!A105 -> 8 | D12: =PLO!D105 -> ARQUITETURA E URBANISMO | I12: =PLO!M138 -> 100266.59 | J12: =PLO!N138 -> 0.14061909
A13: =PLO!A139 -> 9 | D13: =PLO!D139 -> INSTALAÇÕES HIDRÁULICAS | I13: =PLO!M173 -> 18218.47 | J13: =PLO!N173 -> 0.025550532
A14: =PLO!A174 -> 10 | D14: =PLO!D174 -> INSTALAÇÕES ELÉTRICAS E LÓGICA | I14: =PLO!M254 -> 126560.03 | J14: =PLO!N254 -> 0.17749438
A15: =PLO!A255 -> 11 | D15: =PLO!D255 -> CLIMATIZAÇÃO | I15: =PLO!M267 -> 9099.04 | J15: =PLO!N267 -> 0.012760968
A16: =PLO!A268 -> 12 | D16: =PLO!D268 -> PREVENÇÃO E COMBATE A INCÊNDIO | I16: =PLO!M272 -> 1141.16 | J16: =PLO!N272 -> 0.0016004222
A17: =PLO!A273 -> 13 | D17: =PLO!D273 -> PAVIMENTAÇÃO - PISOS | I17: =PLO!M289 -> 71517.17 | J17: =PLO!N289 -> 0.10029941
G20: TOTAL GERAL | J20: =SUM(I5:I17) -> 713036.83
G21: BDI 28,92% | I21: 0.2892 | J21: =SUM(I5:I17)*I21 -> 206210.25
G22: TOTAL GERAL COM BDI | J22: =SUM(J20:J21) -> 919247.08 | L22: =J22/1748 -> 525.88506
A24: TÉCNICO RESPONSÁVEL: | E24: CARIMBO | F24: ASSINATURA DO COORDENADOR DA CBR ENGENHARIA | I24: CARIMBO
F25: CREA

Sheet PLO
D1: Obra | E1: Bancos | I1: B.D.I. | K1: Encargos Sociais
D2: =RESUMO!D2 -> SESC SC_MESA BRASIL FORQUILHINHA_COBERTURA_R02 | E2: =RESUMO!E2 -> SINAPI - 08/2023 - Santa Catarina | I2: =RESUMO!F2 -> 28.92 | K2: Não Desonerado
A3: Planilha Orçamentária Sintética Com Valor do Material e da Mão de Obra
A4: Item | B4: Código | C4: Banco | D4: Descrição | E4: Local | F4: Und | G4: Quant. | H4: Valor Unit | K4: Total | N4: Peso (%) | P4: BDI | Q4: 1.242
H5: M. O. | I5: MAT. | J5: Total | K5: M. O. | L5: MAT. | M5: Total Geral | P5: BDI Dif | Q5: 1.1962
A6: 1 | D6: INSTALAÇÕES PROVISÓRIAS E SERVIÇOS INICIAIS
A7: 1.1 | B7: CANT.000016 | C7: Próprio | D7: MOBILIZAÇÃO DE CANTEIRO DE OBRAS | E7: geral | F7: unid | G7: 1 | H7: 4488.19 | I7: 7241 | J7: 11729.19 | K7: 4488.19 | L7: 7241 | M7: 11729.19 | N7: =M7/$M$292 -> 0.016449627
A8: 1.2 | B8: SERP.000004 | C8: Próprio | D8: FORNECIMENTO, MONTAGEM E DESMONTAGEM DE ANDAIME METÁLICO TUBULAR TIPO TORRE - LOCAÇÃO | E8: geral | F8: m/mês | G8: =2*4*4 -> 32 | H8: 18.15 | I8: 30.56 | J8: 48.71 | K8: 580.8 | L8: 977.92 | M8: 1558.72 | N8: =M8/$M$292 -> 0.0021860301
A9: 1.3 | B9: SERP.000008 | C9: Próprio | D9: PLACA DE OBRA 2,0X2,0M COM PINTURA ESMALTE - FORNECIMENTO E INSTALAÇÃO | E9: geral | F9: unid | G9: 1 | H9: 179.83 | I9: 661.26 | J9: 841.09 | K9: 179.83 | L9: 661.26 | M9: 841.09 | N9: =M9/$M$292 -> 0.0011795884
L10: SUBTOTAL | M10: =SUM(M7:M9) -> 14129 | N10: =M10/$M$292 -> 0.019815246
A11: 2 | D11: ADMINISTRAÇÃO DOS SERVIÇOS
A12: 2.1 | B12: CANT.000010 | C12: Próprio | D12: ART DE OBRAS E SERVIÇOS | E12: geral | F12: unid | G12: 1 | H12: 0 | I12: 254.59 | J12: 254.59 | K12: 0 | L12: 254.59 | M12: 254.59 | N12: =M12/$M$292 -> 0.00035705028
A13: 2.2 | B13: 90778 | C13: SINAPI | D13: ENGENHEIRO CIVIL DE OBRA PLENO COM ENCARGOS COMPLEMENTARES | E13: geral | F13: h | G13: =4*60 -> 240 | H13: 126.98 | I13: 1.93 | J13: 128.91 | K13: 30475.2 | L13: 463.2 | M13: 30938.4 | N13: =M13/$M$292 -> 0.043389624
A14: 2.3 | B14: 94295 | C14: SINAPI | D14: MESTRE DE OBRAS COM ENCARGOS COMPLEMENTARES | E14: geral | F14: mês | G14: 2 | H14: 10597.44 | I14: 471.45 | J14: 11068.89 | K14: 21194.88 | L14: 942.9 | M14: 22137.78 | N14: =M14/$M$292 -> 0.031047176
L15: SUBTOTAL | M15: =SUM(M12:M14) -> 53330.77 | N15: =M15/$M$292 -> 0.07479385
A16: 3 | D16: CONCLUSÃO DOS SERVIÇOS
A17: 3.1 | B17: CANT.000009 | C17: Próprio | D17: LIMPEZA PERMANENTE EM OBRA | F17: mês | G17: 2 | H17: 1688.72 | I17: 317.68 | J17: 2006.4 | K17: 3377.44 | L17: 635.36 | M17: 4012.8 | N17: =M17/$M$292 -> 0.0056277598
A18: 3.2 | B18: SERT.000077 | C18: Próprio | D18: AS BUILT | E18: área à construir | F18: m² | G18: 256.4 | H18: 0.8 | I18: 0.11 | J18: 0.91 | K18: 205.12 | L18: 28.2 | M18: 233.32 | N18: =M18/$M$292 -> 0.00032722012
A19: 3.3 | B19: SEDI.000095 | C19: Próprio | D19: LIMPEZA FINAL DA OBRA | E19: área à construir | F19: m² | G19: 256.4 | H19: 2.68 | I19: 1.34 | J19: 4.02 | K19: 687.15 | L19: 343.57 | M19: 1030.72 | N19: =M19/$M$292 -> 0.0014455354
L20: SUBTOTAL | M20: =SUM(M17:M19) -> 5276.84 | N20: =M20/$M$292 -> 0.0074005153
A21: 4 | D21: DEMOLIÇÕES, REMOÇÕES E RETIRADAS
A22: 4.1 | B22: SEOP.000030 | C22: Próprio | D22: REMOÇÃO DE CORRIMÃO | E22: rampa acesso ao Sesc Comunidade | F22: m | G22: 4.96 | H22: 18.62 | I22: 2.95 | J22: 21.57 | K22: 92.35 | L22: 14.63 | M22: 106.98 | N22: =M22/$M$292 -> 0.00015003433
A23: 4.2 | B23: SERP.000055 | C23: Próprio | D23: DEMOLIÇÃO DE PAVIMENTAÇÃO EXTERNA (PASSEIO PÚBLICO / CALÇADA) | E23: rampa e calçada acesso ao Sesc Comunidade | F23: m² | G23: =31.76+3.5 -> 35.26 | H23: 13.43 | I23: 2.53 | J23: 15.96 | K23: 473.54 | L23: 89.2 | M23: 562.74 | N23: =M23/$M$292 -> 0.0007892159
A24: 4.3 | B24: SERP.000077 | C24: Próprio | D24: DEMOLIÇÃO DOS MOURÕES E CERCAS | E24: ao lado portão de acesso principal, fachada norte | F24: m | G24: 8.2 | H24: 38.38 | I24: 7.22 | J24: 45.6 | K24: 314.71 | L24: 59.21 | M24: 373.92 | N24: =M24/$M$292 -> 0.00052440489
A25: 4.4 | B25: TRAN.000002 | C25: Próprio | D25: Remoção de entulho, inclusive o transporte e descarga em caçambas de aço - em unidades de, até, 5m³ | E25: geral | F25: unid | G25: 3 | H25: 84.43 | I25: 422.53 | J25: 506.96 | K25: 253.29 | L25: 1267.59 | M25: 1520.88 | N25: =M25/$M$292 -> 0.0021329614
L26: SUBTOTAL | M26: =SUM(M21:M25) -> 2564.52 | N26: =M26/$M$292 -> 0.0035966165
A27: 5 | D27: MOVIMENTAÇÃO DE TERRA
A28: 5.1 | B28: 101137 | C28: SINAPI | D28: ESCAVAÇÕES MECANIZADAS | E28: fundações, elétrica | F28: m³ | G28: =21.08+3.1+50+1.1 -> 75.28 | H28: 2.52 | I28: 11.85 | J28: 14.37 | K28: 189.7 | L28: 892.07 | M28: 1081.77 | N28: =M28/$M$292 -> 0.0015171306
A29: 5.2 | B29: 93382 | C29: SINAPI | D29: ATERRO E/OU REATERRO MECANIZADAS | E29: fundações, elétrica | F29: m³ | G29: =5.77+2.1+50+0.1 -> 57.97 | H29: 26.83 | I29: 7.69 | J29: 34.52 | K29: 1555.33 | L29: 445.79 | M29: 2001.12 | N29: =M29/$M$292 -> 0.0028064749
A30: 5.3 | B30: 97083 | C30: SINAPI | D30: COMPACTAÇÃO MECÂNICA DE SOLO, COM COMPACTADOR DE SOLOS A PERCUSSÃO | F30: m² | G30: 2.9 | H30: 2.94 | I30: 0.66 | J30: 3.6 | K30: 8.52 | L30: 1.92 | M30: 10.44 | N30: =M30/$M$292 -> 1.46416e-05
L31: SUBTOTAL | M31: =SUM(M28:M30) -> 3093.33 | N31: =M31/$M$292 -> 0.0043382472
A32: 6 | D32: INFRAESTRUTURA
A33: 6.1 | D33: ESTACA
A34: 6.1.1 | B34: FUES.000325 | C34: Próprio | D34: ESTACA HÉLICE CONTÍNUA, DIÂMETRO DE 30 CM - MO, EQUIPAMENTOS, MOB E DESMOB | E34: geral | F34: m | G34: 80 | H34: 0 | I34: 462.08 | J34: 462.08 | K34: 0 | L34: 36966.4 | M34: 36966.4 | N34: =M34/$M$292 -> 0.051843605
A35: 6.1.2 | B35: 95583 | C35: SINAPI | D35: MONTAGEM DE ARMADURA TRANSVERSAL DE ESTACAS DE SEÇÃO CIRCULAR, DIÂMETRO = 5,0 MM | E35: geral | F35: kg | G35: =73.4/80 -> 0.9175 | H35: 6.86 | I35: 10.7 | J35: 17.56 | K35: 6.31 | L35: 9.84 | M35: 16.15 | N35: =M35/$M$292 -> 2.2649601e-05
A36: 6.1.3 | B36: 95577 | C36: SINAPI | D36: MONTAGEM DE ARMADURA DE ESTACAS, DIÂMETRO = 10,0 MM | E36: geral | F36: kg | G36: =295.9/80 -> 3.69875 | H36: 1.2 | I36: 10.62 | J36: 11.82 | K36: 4.44 | L36: 39.29 | M36: 43.73 | N36: =M36/$M$292 -> 6.132923e-05
A37: 6.1.4 | B37: FUES.000014 | C37: Próprio | D37: CONCRETO FCK 25 MPA USINADO | E37: geral | F37: m³ | G37: =3.93/80 -> 0.049125 | H37: 292.48 | I37: 604.92 | J37: 897.4 | K37: 14.62 | L37: 30.25 | M37: 44.87 | N37: =M37/$M$292 -> 6.2928026e-05
A38: 6.1.5 | B38: 103673 | C38: SINAPI | D38: LANÇAMENTO COM USO DE BOMBAS, ADENSAMENTO E ACABAMENTO DE CONCRETO | E38: geral | F38: m³ | G38: =G37 -> 0.049125 | H38: 38.14 | I38: 6.64 | J38: 44.78 | K38: 1.9 | L38: 0.33 | M38: 2.23 | N38: =M38/$M$292 -> 3.1274682e-06
A39: 6.1.6 | B39: 95601 | C39: SINAPI | D39: ARRASAMENTO MECANICO DE ESTACA DE CONCRETO ARMADO, DIAMETROS DE ATÉ 40 CM | E39: geral | F39: unid | G39: 20 | H39: 14.86 | I39: 2.78 | J39: 17.64 | K39: 297.2 | L39: 55.6 | M39: 352.8 | N39: =M39/$M$292 -> 0.0004947851
A40: 6.2 | D40: BLOCOS
...
