Workbook
Name CFF: #REF!
Name Cotações: #REF!
Name ET: #N/A
Name ET_2: #N/A
Name Excel: #REF!
Name Excel_BuiltIn_Print_Area_1: #REF!
Name Excel_BuiltIn_Print_Area_1_1: #REF!
Name Excel_BuiltIn_Print_Area_9: #REF!
Name Excel_BuiltIn_Print_Titles_1: #REF!
Name F: #REF!
Name fim: #N/A
Name fim_2: #N/A
Name NEWPRINT10: #REF!
Name NEWPRINT2: #REF!
Name NEWPRINT3: #REF!
Name NEWPRINT4: #REF!
Name NewPrintArea: #REF!
Name NewPrintArea2: #REF!
Name NewPrintArea3: #REF!
Name NewPrintArea9: #REF!
Name PRINT10: #REF!
Name RR: #N/A
Name RR_2: #N/A
Name TITLES2: #REF!
Name total: #REF!
Name TOTAL_2: #N/A
Name TT: #N/A
Name TT_2: #N/A

Sheet RESUMO
D1: Obra | E1: Bancos | F1: B.D.I. | G1: Encargos Sociais
D2: SESC SC_MESA BRASIL FORQUILHINHA_COBERTURA_R02 | E2: SINAPI - 08/2023 - Santa Catarina | F2: 28.92 | G2: Não Desonerado
A3: Planilha Orçamentária Resumida
A4: Item | D4: Descrição | I4: Total | J4: Peso (%)
A5: =PLO!A6 -> 1 | D5: =PLO!D6 -> INSTALAÇÕES PROVISÓRIAS E SERVIÇOS INICIAIS | I5: =PLO!M10 -> 14129 | J5: =PLO!N10 -> 0.019815246
A6: =PLO!A11 -> 2 | D6: =PLO!D11 -> ADMINISTRAÇÃO DOS SERVIÇOS | I6: =PLO!M15 -> 53330.77 | J6: =PLO!N15 -> 0.07479385
A7: =PLO!A16 -> 3 | D7: =PLO!D16 -> CONCLUSÃO DOS SERVIÇOS | I7: =PLO!M20 -> 5276.84 | J7: =PLO!N20 -> 0.0074005153
A8: =PLO!A21 -> 4 | D8: =PLO!D21 -> DEMOLIÇÕES, REMOÇÕES E RETIRADAS | I8: =PLO!M26 -> 2564.52 | J8: =PLO!N26 -> 0.0035966165
A9: =PLO!A27 -> 5 | D9: =PLO!D27 -> MOVIMENTAÇÃO DE TERRA | I9: =PLO!M31 -> 3093.33 | J9: =PLO!N31 -> 0.0043382472
A10: =PLO!A32 -> 6 | D10: =PLO!D32 -> INFRAESTRUTURA | I10: =PLO!M57 -> 67651.26 | J10: =PLO!N57 -> 0.094877652
A11: =PLO!A58 -> 7 | D11: =PLO!D58 -> SUPERESTRUTURA | I11: =PLO!M104 -> 240188.65 | J11: =PLO!N104 -> 0.33685308
A12: =PLO!A105 -> 8 | D12: =PLO!D105 -> ARQUITETURA E URBANISMO | I12: =PLO!M138 -> 100266.59 | J12: =PLO!N138 -> 0.14061909
A13: =PLO!A139 -> 9 | D13: =PLO!D139 -> INSTALAÇÕES HIDRÁULICAS | I13: =PLO!M173 -> 18218.47 | J13: =PLO!N173 -> 0.025550532
A14: =PLO!A174 -> 10 | D14: =PLO!D174 -> INSTALAÇÕES ELÉTRICAS E LÓGICA | I14: =PLO!M254 -> 126560.03 | J14: =PLO!N254 -> 0.17749438
A15: =PLO!A255 -> 11 | D15: =PLO!D255 -> CLIMATIZAÇÃO | I15: =PLO!M267 -> 9099.04 | J15: =PLO!N267 -> 0.012760968
A16: =PLO!A268 -> 12 | D16: =PLO!D268 -> PREVENÇÃO E COMBATE A INCÊNDIO | I16: =PLO!M272 -> 1141.16 | J16: =PLO!N272 -> 0.0016004222
A17: =PLO!A273 -> 13 | D17: =PLO!D273 -> PAVIMENTAÇÃO - PISOS | I17: =PLO!M289 -> 71517.17 | J17: =PLO!N289 -> 0.10029941
G20: TOTAL GERAL | J20: =SUM(I5:I17) -> 713036.83
G21: BDI 28,92% | I21: 0.2892 | J21: =SUM(I5:I17)*I21 -> 206210.25
G22: TOTAL GERAL COM BDI | J22: =SUM(J20:J21) -> 919247.08 | L22: =J22/1748 -> 525.88506
A24: TÉCNICO RESPONSÁVEL: | E24: CARIMBO | F24: ASSINATURA DO COORDENADOR DA CBR ENGENHARIA | I24: CARIMBO
F25: CREA

Sheet PLO
D1: Obra | E1: Bancos | I1: B.D.I. | K1: Encargos Sociais
D2: =RESUMO!D2 -> SESC SC_MESA BRASIL FORQUILHINHA_COBERTURA_R02 | E2: =RESUMO!E2 -> SINAPI - 08/2023 - Santa Catarina | I2: =RESUMO!F2 -> 28.92 | K2: Não Desonerado
A3: Planilha Orçamentária Sintética Com Valor do Material e da Mão de Obra
A4: Item | B4: Código | C4: Banco | D4: Descrição | E4: Local | F4: Und | G4: Quant. | H4: Valor Unit | K4: Total | N4: Peso (%) | P4: BDI | Q4: 1.242
H5: M. O. | I5: MAT. | J5: Total | K5: M. O. | L5: MAT. | M5: Total Geral | P5: BDI Dif | Q5: 1.1962
A6: 1 | D6: INSTALAÇÕES PROVISÓRIAS E SERVIÇOS INICIAIS
A7: 1.1 | B7: CANT.000016 | C7: Próprio | D7: MOBILIZAÇÃO DE CANTEIRO DE OBRAS | E7: geral | F7: unid | G7: 1 | H7: 4488.19 | I7: 7241 | J7: 11729.19 | K7: 4488.19 | L7: 7241 | M7: 11729.19 | N7: =M7/$M$292 -> 0.016449627
A8: 1.2 | B8: SERP.000004 | C8: Próprio | D8: FORNECIMENTO, MONTAGEM E DESMONTAGEM DE ANDAIME METÁLICO TUBULAR TIPO TORRE - LOCAÇÃO | E8: geral | F8: m/mês | G8: =2*4*4 -> 32 | H8: 18.15 | I8: 30.56 | J8: 48.71 | K8: 580.8 | L8: 977.92 | M8: 1558.72 | N8: =M8/$M$292 -> 0.0021860301
A9: 1.3 | B9: SERP.000008 | C9: Próprio | D9: PLACA DE OBRA 2,0X2,0M COM PINTURA ESMALTE - FORNECIMENTO E INSTALAÇÃO | E9: geral | F9: unid | G9: 1 | H9: 179.83 | I9: 661.26 | J9: 841.09 | K9: 179.83 | L9: 661.26 | M9: 841.09 | N9: =M9/$M$292 -> 0.0011795884
L10: SUBTOTAL | M10: =SUM(M7:M9) -> 14129 | N10: =M10/$M$292 -> 0.019815246
A11: 2 | D11: ADMINISTRAÇÃO DOS SERVIÇOS
A12: 2.1 | B12: CANT.000010 | C12: Próprio | D12: ART DE OBRAS E SERVIÇOS | E12: geral | F12: unid | G12: 1 | H12: 0 | I12: 254.59 | J12: 254.59 | K12: 0 | L12: 254.59 | M12: 254.59 | N12: =M12/$M$292 -> 0.00035705028
A13: 2.2 | B13: 90778 | C13: SINAPI | D13: ENGENHEIRO CIVIL DE OBRA PLENO COM ENCARGOS COMPLEMENTARES | E13: geral | F13: h | G13: =4*60 -> 240 | H13: 126.98 | I13: 1.93 | J13: 128.91 | K13: 30475.2 | L13: 463.2 | M13: 30938.4 | N13: =M13/$M$292 -> 0.043389624
A14: 2.3 | B14: 94295 | C14: SINAPI | D14: MESTRE DE OBRAS COM ENCARGOS COMPLEMENTARES | E14: geral | F14: mês | G14: 2 | H14: 10597.44 | I14: 471.45 | J14: 11068.89 | K14: 21194.88 | L14: 942.9 | M14: 22137.78 | N14: =M14/$M$292 -> 0.031047176
L15: SUBTOTAL | M15: =SUM(M12:M14) -> 53330.77 | N15: =M15/$M$292 -> 0.07479385
A16: 3 | D16: CONCLUSÃO DOS SERVIÇOS
A17: 3.1 | B17: CANT.000009 | C17: Próprio | D17: LIMPEZA PERMANENTE EM OBRA | F17: mês | G17: 2 | H17: 1688.72 | I17: 317.68 | J17: 2006.4 | K17: 3377.44 | L17: 635.36 | M17: 4012.8 | N17: =M17/$M$292 -> 0.0056277598
A18: 3.2 | B18: SERT.000077 | C18: Próprio | D18: AS BUILT | E18: área à construir | F18: m² | G18: 256.4 | H18: 0.8 | I18: 0.11 | J18: 0.91 | K18: 205.12 | L18: 28.2 | M18: 233.32 | N18: =M18/$M$292 -> 0.00032722012
A19: 3.3 | B19: SEDI.000095 | C19: Próprio | D19: LIMPEZA FINAL DA OBRA | E19: área à construir | F19: m² | G19: 256.4 | H19: 2.68 | I19: 1.34 | J19: 4.02 | K19: 687.15 | L19: 343.57 | M19: 1030.72 | N19: =M19/$M$292 -> 0.0014455354
L20: SUBTOTAL | M20: =SUM(M17:M19) -> 5276.84 | N20: =M20/$M$292 -> 0.0074005153
A21: 4 | D21: DEMOLIÇÕES, REMOÇÕES E RETIRADAS
A22: 4.1 | B22: SEOP.000030 | C22: Próprio | D22: REMOÇÃO DE CORRIMÃO | E22: rampa acesso ao Sesc Comunidade | F22: m | G22: 4.96 | H22: 18.62 | I22: 2.95 | J22: 21.57 | K22: 92.35 | L22: 14.63 | M22: 106.98 | N22: =M22/$M$292 -> 0.00015003433
A23: 4.2 | B23: SERP.000055 | C23: Próprio | D23: DEMOLIÇÃO DE PAVIMENTAÇÃO EXTERNA (PASSEIO PÚBLICO / CALÇADA) | E23: rampa e calçada acesso ao Sesc Comunidade | F23: m² | G23: =31.76+3.5 -> 35.26 | H23: 13.43 | I23: 2.53 | J23: 15.96 | K23: 473.54 | L23: 89.2 | M23: 562.74 | N23: =M23/$M$292 -> 0.0007892159
A24: 4.3 | B24: SERP.000077 | C24: Próprio | D24: DEMOLIÇÃO DOS MOURÕES E CERCAS | E24: ao lado portão de acesso principal, fachada norte | F24: m | G24: 8.2 | H24: 38.38 | I24: 7.22 | J24: 45.6 | K24: 314.71 | L24: 59.21 | M24: 373.92 | N24: =M24/$M$292 -> 0.00052440489
A25: 4.4 | B25: TRAN.000002 | C25: Próprio | D25: Remoção de entulho, inclusive o transporte e descarga em caçambas de aço - em unidades de, até, 5m³ | E25: geral | F25: unid | G25: 3 | H25: 84.43 | I25: 422.53 | J25: 506.96 | K25: 253.29 | L25: 1267.59 | M25: 1520.88 | N25: =M25/$M$292 -> 0.0021329614
L26: SUBTOTAL | M26: =SUM(M21:M25) -> 2564.52 | N26: =M26/$M$292 -> 0.0035966165
A27: 5 | D27: MOVIMENTAÇÃO DE TERRA
A28: 5.1 | B28: 101137 | C28: SINAPI | D28: ESCAVAÇÕES MECANIZADAS | E28: fundações, elétrica | F28: m³ | G28: =21.08+3.1+50+1.1 -> 75.28 | H28: 2.52 | I28: 11.85 | J28: 14.37 | K28: 189.7 | L28: 892.07 | M28: 1081.77 | N28: =M28/$M$292 -> 0.0015171306
A29: 5.2 | B29: 93382 | C29: SINAPI | D29: ATERRO E/OU REATERRO MECANIZADAS | E29: fundações, elétrica | F29: m³ | G29: =5.77+2.1+50+0.1 -> 57.97 | H29: 26.83 | I29: 7.69 | J29: 34.52 | K29: 1555.33 | L29: 445.79 | M29: 2001.12 | N29: =M29/$M$292 -> 0.0028064749
A30: 5.3 | B30: 97083 | C30: SINAPI | D30: COMPACTAÇÃO MECÂNICA DE SOLO, COM COMPACTADOR DE SOLOS A PERCUSSÃO | F30: m² | G30: 2.9 | H30: 2.94 | I30: 0.66 | J30: 3.6 | K30: 8.52 | L30: 1.92 | M30: 10.44 | N30: =M30/$M$292 -> 1.46416e-05
L31: SUBTOTAL | M31: =SUM(M28:M30) -> 3093.33 | N31: =M31/$M$292 -> 0.0043382472
A32: 6 | D32: INFRAESTRUTURA
A33: 6.1 | D33: ESTACA
A34: 6.1.1 | B34: FUES.000325 | C34: Próprio | D34: ESTACA HÉLICE CONTÍNUA, DIÂMETRO DE 30 CM - MO, EQUIPAMENTOS, MOB E DESMOB | E34: geral | F34: m | G34: 80 | H34: 0 | I34: 462.08 | J34: 462.08 | K34: 0 | L34: 36966.4 | M34: 36966.4 | N34: =M34/$M$292 -> 0.051843605
A35: 6.1.2 | B35: 95583 | C35: SINAPI | D35: MONTAGEM DE ARMADURA TRANSVERSAL DE ESTACAS DE SEÇÃO CIRCULAR, DIÂMETRO = 5,0 MM | E35: geral | F35: kg | G35: =73.4/80 -> 0.9175 | H35: 6.86 | I35: 10.7 | J35: 17.56 | K35: 6.31 | L35: 9.84 | M35: 16.15 | N35: =M35/$M$292 -> 2.2649601e-05
A36: 6.1.3 | B36: 95577 | C36: SINAPI | D36: MONTAGEM DE ARMADURA DE ESTACAS, DIÂMETRO = 10,0 MM | E36: geral | F36: kg | G36: =295.9/80 -> 3.69875 | H36: 1.2 | I36: 10.62 | J36: 11.82 | K36: 4.44 | L36: 39.29 | M36: 43.73 | N36: =M36/$M$292 -> 6.132923e-05
A37: 6.1.4 | B37: FUES.000014 | C37: Próprio | D37: CONCRETO FCK 25 MPA USINADO | E37: geral | F37: m³ | G37: =3.93/80 -> 0.049125 | H37: 292.48 | I37: 604.92 | J37: 897.4 | K37: 14.62 | L37: 30.25 | M37: 44.87 | N37: =M37/$M$292 -> 6.2928026e-05
A38: 6.1.5 | B38: 103673 | C38: SINAPI | D38: LANÇAMENTO COM USO DE BOMBAS, ADENSAMENTO E ACABAMENTO DE CONCRETO | E38: geral | F38: m³ | G38: =G37 -> 0.049125 | H38: 38.14 | I38: 6.64 | J38: 44.78 | K38: 1.9 | L38: 0.33 | M38: 2.23 | N38: =M38/$M$292 -> 3.1274682e-06
A39: 6.1.6 | B39: 95601 | C39: SINAPI | D39: ARRASAMENTO MECANICO DE ESTACA DE CONCRETO ARMADO, DIAMETROS DE ATÉ 40 CM | E39: geral | F39: unid | G39: 20 | H39: 14.86 | I39: 2.78 | J39: 17.64 | K39: 297.2 | L39: 55.6 | M39: 352.8 | N39: =M39/$M$292 -> 0.0004947851
A40: 6.2 | D40: BLOCOS
A41: 6.2.1 | B41: 96616 | C41: SINAPI | D41: LASTRO DE CONCRETO MAGRO, APLICADO EM BLOCOS | E41: geral | F41: m³ | G41: 0.5 | H41: 280.23 | I41: 432.2 | J41: 712.43 | K41: 140.11 | L41: 216.1 | M41: 356.21 | N41: =M41/$M$292 -> 0.00049956746
A42: 6.2.2 | B42: 96534 | C42: SINAPI | D42: FORMA DE MADEIRA E= 2,5 CM PARA VIGAS BALDRAME E BLOCOS | E42: geral | F42: m² | G42: 70.3 | H42: 51.4 | I42: 81.15 | J42: 132.55 | K42: 3613.42 | L42: 5704.84 | M42: 9318.26 | N42: =M42/$M$292 -> 0.013068413
A43: 6.2.3 | B43: 96543 | C43: SINAPI | D43: CORTE E DOBRA AÇO CA-60 ⱷ 5,00 MM DE BLOCOS, VIGAS BALDRAMES E SAPATAS | E43: geral | F43: kg | G43: 50.8 | H43: 8.22 | I43: 11.21 | J43: 19.43 | K43: 417.57 | L43: 569.47 | M43: 987.04 | N43: =M43/$M$292 -> 0.0013842763
A44: 6.2.4 | B44: 96545 | C44: SINAPI | D44: CORTE E DOBRA AÇO CA-50 ⱷ 8,00 MM DE BLOCOS, VIGAS BALDRAMES E SAPATAS | E44: geral | F44: kg | G44: 223 | H44: 4.32 | I44: 11.85 | J44: 16.17 | K44: 963.36 | L44: 2642.55 | M44: 3605.91 | N44: =M44/$M$292 -> 0.0050571161
A45: 6.2.5 | B45: 96546 | C45: SINAPI | D45: CORTE E DOBRA AÇO CA-50 ⱷ 10,00 MM DE BLOCOS, VIGAS BALDRAMES E SAPATAS | E45: geral | F45: kg | G45: 130.8 | H45: 3.21 | I45: 11.05 | J45: 14.26 | K45: 419.86 | L45: 1445.34 | M45: 1865.2 | N45: =M45/$M$292 -> 0.0026158537
A46: 6.2.6 | B46: FUES.000014 | C46: Próprio | D46: CONCRETO FCK 25 MPA USINADO | E46: geral | F46: m³ | G46: 7.19 | H46: 292.48 | I46: 604.92 | J46: 897.4 | K46: 2102.93 | L46: 4349.37 | M46: 6452.3 | N46: =M46/$M$292 -> 0.0090490417
A47: 6.2.7 | B47: 103673 | C47: SINAPI | D47: LANÇAMENTO COM USO DE BOMBAS, ADENSAMENTO E ACABAMENTO DE CONCRETO | E47: geral | F47: m³ | G47: =G46 -> 7.19 | H47: 38.14 | I47: 6.64 | J47: 44.78 | K47: 274.22 | L47: 47.74 | M47: 321.96 | N47: =M47/$M$292 -> 0.00045153348
A48: 6.2.8 | B48: 98557 | C48: SINAPI | D48: IMPERMEABILIZAÇÃO DE SUPERFÍCIE COM EMULSÃO ASFÁLTICA, 2 DEMÃOS | E48: geral | F48: m² | G48: 87.49 | H48: 13.43 | I48: 38.55 | J48: 51.98 | K48: 1174.99 | L48: 3372.74 | M48: 4547.73 | N48: =M48/$M$292 -> 0.0063779735
A49: 6.3 | D49: BALDRAME CERCA
A50: 6.3.1 | B50: 100324 | C50: SINAPI | D50: LASTRO COM MATERIAL GRANULAR (BRITA 1 E BRITA 2), SOBRE SOLO | E50: geral | F50: m³ | G50: 0.2 | H50: 35.04 | I50: 126.58 | J50: 161.62 | K50: 7 | L50: 25.32 | M50: 32.32 | N50: =M50/$M$292 -> 4.5327252e-05
A51: 6.3.2 | B51: 96534 | C51: SINAPI | D51: FORMA DE MADEIRA E= 2,5 CM PARA VIGAS BALDRAME E BLOCOS | E51: geral | F51: m² | G51: 8.3 | H51: 51.4 | I51: 81.15 | J51: 132.55 | K51: 426.62 | L51: 673.54 | M51: 1100.16 | N51: =M51/$M$292 -> 0.0015429217
A52: 6.3.3 | B52: 96543 | C52: SINAPI | D52: CORTE E DOBRA AÇO CA-60 ⱷ 5,00 MM DE BLOCOS, VIGAS BALDRAMES E SAPATAS | E52: geral | F52: kg | G52: 11.5 | H52: 8.22 | I52: 11.21 | J52: 19.43 | K52: 94.53 | L52: 128.91 | M52: 223.44 | N52: =M52/$M$292 -> 0.0003133639
A53: 6.3.4 | B53: 96544 | C53: SINAPI | D53: CORTE E DOBRA AÇO CA-50 ⱷ 6,30 MM DE BLOCOS, VIGAS BALDRAMES E SAPATAS | E53: geral | F53: kg | G53: 7 | H53: 5.95 | I53: 11.76 | J53: 17.71 | K53: 41.65 | L53: 82.32 | M53: 123.97 | N53: =M53/$M$292 -> 0.00017386199
A54: 6.3.5 | B54: 96545 | C54: SINAPI | D54: CORTE E DOBRA AÇO CA-50 ⱷ 8,00 MM DE BLOCOS, VIGAS BALDRAMES E SAPATAS | E54: geral | F54: kg | G54: 33.2 | H54: 4.32 | I54: 11.85 | J54: 16.17 | K54: 143.42 | L54: 393.42 | M54: 536.84 | N54: =M54/$M$292 -> 0.00075289239
A55: 6.3.6 | B55: FUES.000014 | C55: Próprio | D55: CONCRETO FCK 25 MPA USINADO | E55: geral | F55: m³ | G55: 0.8 | H55: 292.48 | I55: 604.92 | J55: 897.4 | K55: 233.98 | L55: 483.94 | M55: 717.92 | N55: =M55/$M$292 -> 0.0010068484
A56: 6.3.7 | B56: 103673 | C56: SINAPI | D56: LANÇAMENTO COM USO DE BOMBAS, ADENSAMENTO E ACABAMENTO DE CONCRETO | E56: geral | F56: m³ | G56: =G55 -> 0.8 | H56: 38.14 | I56: 6.64 | J56: 44.78 | K56: 30.51 | L56: 5.31 | M56: 35.82 | N56: =M56/$M$292 -> 5.0235834e-05
L57: SUBTOTAL | M57: =SUM(M32:M56) -> 67651.26 | N57: =M57/$M$292 -> 0.094877652
A58: 7 | D58: SUPERESTRUTURA
A59: 7.1 | D59: PILARES
A60: 7.1.1 | B60: 92419 | C60: SINAPI | D60: FORMA DE MADEIRA E= 2,5 CM PARA PILARES | E60: geral | F60: m² | G60: 67.96 | H60: 38.96 | I60: 59.04 | J60: 98 | K60: 2647.72 | L60: 4012.36 | M60: 6660.08 | N60: =M60/$M$292 -> 0.0093404432
A61: 7.1.2 | B61: 92759 | C61: SINAPI | D61: CORTE E DOBRA AÇO CA-60 ⱷ 5,00 MM DE PILARES E VIGAS | E61: geral | F61: kg | G61: 88 | H61: 4.98 | I61: 10.56 | J61: 15.54 | K61: 438.24 | L61: 929.28 | M61: 1367.52 | N61: =M61/$M$292 -> 0.0019178813
A62: 7.1.3 | B62: 92762 | C62: SINAPI | D62: CORTE E DOBRA AÇO CA-50 ⱷ 10,00 MM DE PILARES E VIGAS | E62: geral | F62: kg | G62: 126 | H62: 1.44 | I62: 10.8 | J62: 12.24 | K62: 181.44 | L62: 1360.8 | M62: 1542.24 | N62: =M62/$M$292 -> 0.0021629177
A63: 7.1.4 | B63: 92763 | C63: SINAPI | D63: CORTE E DOBRA AÇO CA-50 ⱷ 12,50 MM DE PILARES E VIGAS | E63: geral | F63: kg | G63: 459 | H63: 0.91 | I63: 9.36 | J63: 10.27 | K63: 417.69 | L63: 4296.24 | M63: 4713.93 | N63: =M63/$M$292 -> 0.006611061
A64: 7.1.5 | B64: FUES.000014 | C64: Próprio | D64: CONCRETO FCK 25 MPA USINADO | E64: geral | F64: m³ | G64: 5.52 | H64: 292.48 | I64: 604.92 | J64: 897.4 | K64: 1614.48 | L64: 3339.16 | M64: 4953.64 | N64: =M64/$M$292 -> 0.0069472428
A65: 7.1.6 | B65: 103673 | C65: SINAPI | D65: LANÇAMENTO DOM USO DE BOMBAS PARA CONCRETO | E65: geral | F65: m³ | G65: =G64 -> 5.52 | H65: 38.14 | I65: 6.64 | J65: 44.78 | K65: 210.53 | L65: 36.65 | M65: 247.18 | N65: =M65/$M$292 -> 0.00034665811
A66: 7.2 | D66: VIGAS
A67: 7.2.1 | B67: 92456 | C67: SINAPI | D67: FORMA DE MADEIRA E= 2,5 CM PARA VIGAS | E67: geral | F67: m² | G67: 52.83 | H67: 66 | I67: 102.36 | J67: 168.36 | K67: 3486.78 | L67: 5407.67 | M67: 8894.45 | N67: =M67/$M$292 -> 0.01247404
A68: 7.2.2 | B68: 92759 | C68: SINAPI | D68: CORTE E DOBRA AÇO CA-60 ⱷ 5,00 MM DE PILARES E VIGAS | E68: geral | F68: kg | G68: 71.2 | H68: 4.98 | I68: 10.56 | J68: 15.54 | K68: 354.57 | L68: 751.87 | M68: 1106.44 | N68: =M68/$M$292 -> 0.0015517291
A69: 7.2.3 | B69: 92761 | C69: SINAPI | D69: CORTE E DOBRA AÇO CA-50 ⱷ 8,00 MM DE PILARES E VIGAS | E69: geral | F69: kg | G69: 81.2 | H69: 2.17 | I69: 11.54 | J69: 13.71 | K69: 176.2 | L69: 937.05 | M69: 1113.25 | N69: =M69/$M$292 -> 0.0015612798
A70: 7.2.4 | B70: 92762 | C70: SINAPI | D70: CORTE E DOBRA AÇO CA-50 ⱷ 10,00 MM DE PILARES E VIGAS | E70: geral | F70: kg | G70: 108 | H70: 1.44 | I70: 10.8 | J70: 12.24 | K70: 155.52 | L70: 1166.4 | M70: 1321.92 | N70: =M70/$M$292 -> 0.0018539295
A71: 7.2.5 | B71: 92763 | C71: SINAPI | D71: CORTE E DOBRA AÇO CA-50 ⱷ 12,50 MM DE PILARES E VIGAS | E71: geral | F71: kg | G71: 23.2 | H71: 0.91 | I71: 9.36 | J71: 10.27 | K71: 21.11 | L71: 217.15 | M71: 238.26 | N71: =M71/$M$292 -> 0.00033414824
A72: 7.2.6 | B72: FUES.000014 | C72: Próprio | D72: CONCRETO FCK 25 MPA USINADO | E72: geral | F72: m³ | G72: 3.76 | H72: 292.48 | I72: 604.92 | J72: 897.4 | K72: 1099.72 | L72: 2274.5 | M72: 3374.22 | N72: =M72/$M$292 -> 0.0047321819
A73: 7.2.7 | B73: 103673 | C73: SINAPI | D73: LANÇAMENTO DOM USO DE BOMBAS PARA CONCRETO | E73: geral | F73: m³ | G73: =G72 -> 3.76 | H73: 38.14 | I73: 6.64 | J73: 44.78 | K73: 143.4 | L73: 24.97 | M73: 168.37 | N73: =M73/$M$292 -> 0.00023613086
A74: 7.3 | D74: ENSAIOS
A75: 7.3.1 | B75: SERT.000071 | C75: Próprio | D75: CONTROLE TECNOLOGICO DE CONCRETOS - COLETA E RUPTURA DE CORPOS DE PROVA | E75: geral | F75: unid | G75: 35 | H75: 0 | I75: 80.57 | J75: 80.57 | K75: 0 | L75: 2819.95 | M75: 2819.95 | N75: =M75/$M$292 -> 0.0039548448
A76: 7.4 | D76: METÁLICAS
A77: 7.4.1 | B77: FUES.000485 | C77: Próprio | D77: FORNECIMENTO E INSTALAÇÃO DE PERFIL EM CHAPA DOBRADA UDCE 200X75X25X2,65 (7,96KG/M) | E77: geral | F77: kg | G77: 1398.49 | H77: 5.5 | I77: 18.25 | J77: 23.75 | K77: 7691.69 | L77: 25522.44 | M77: 33214.13 | N77: =M77/$M$292 -> 0.046581226
A78: 7.4.2 | B78: FUES.000731 | C78: Próprio | D78: FORNECIMENTO E INSTALAÇÃO DE PERFIL EM CHAPA DOBRADA UDCE 300X100X25X4,75 (19,35KG/M) | E78: geral | F78: kg | G78: 4209.21 | H78: 5.5 | I78: 14.37 | J78: 19.87 | K78: 23150.65 | L78: 60486.35 | M78: 83637 | N78: =M78/$M$292 -> 0.11729689
A79: 7.4.3 | B79: FUES.000466 | C79: Próprio | D79: FORNECIMENTO E INSTALAÇÃO DE PERFIL CANTONEIRA L 2" X 3/16" (3,63KG/M) | E79: geral | F79: kg | G79: 15.61 | H79: 4.18 | I79: 18.8 | J79: 22.98 | K79: 65.24 | L79: 293.47 | M79: 358.71 | N79: =M79/$M$292 -> 0.00050307359
A80: 7.4.4 | B80: FUES.000466 | C80: Próprio | D80: FORNECIMENTO E INSTALAÇÃO DE PERFIL CANTONEIRA L 1 1/2" X 1/8" (1,83KG/M) | E80: geral | F80: kg | G80: 120.3 | H80: 4.18 | I80: 18.8 | J80: 22.98 | K80: 502.85 | L80: 2261.64 | M80: 2764.49 | N80: =M80/$M$292 -> 0.0038770648
A81: 7.4.5 | B81: FUES.000732 | C81: Próprio | D81: FORNECIMENTO E INSTALAÇÃO DE PERFIL TUBULAR RETANGULAR 125X75X2,65 (8,13KG/M) | E81: geral | F81: kg | G81: 87.8 | H81: 28.39 | I81: 75.07 | J81: 103.46 | K81: 2492.64 | L81: 6591.14 | M81: 9083.78 | N81: =M81/$M$292 -> 0.012739566
A82: 7.4.6 | B82: FUES.000344 | C82: Próprio | D82: FORNECIMENTO E INSTALAÇÃO DE CHAPA 5/8" | E82: geral | F82: kg | G82: 3.86 | H82: 5.83 | I82: 12.66 | J82: 18.49 | K82: 22.5 | L82: 48.87 | M82: 71.37 | N82: =M82/$M$292 -> 0.00010009301
A83: 7.4.7 | B83: FUES.000206 | C83: Próprio | D83: FORNECIMENTO E INSTALAÇÃO DE CHAPA 1/4" | E83: geral | F83: kg | G83: 35.18 | H83: 5.83 | I83: 10.74 | J83: 16.57 | K83: 205.09 | L83: 377.84 | M83: 582.93 | N83: =M83/$M$292 -> 0.0008175314
A84: 7.4.8 | B84: FUES.000378 | C84: Próprio | D84: FORNECIMENTO E INSTALAÇÃO DE CHAPA 1/8" | E84: geral | F84: kg | G84: 2.76 | H84: 5.83 | I84: 10.01 | J84: 15.84 | K84: 16.09 | L84: 27.62 | M84: 43.71 | N84: =M84/$M$292 -> 6.1301181e-05
A85: 7.4.9 | B85: FUES.000493 | C85: Próprio | D85: FORNECIMENTO E INSTALAÇÃO DE CABO DE AÇO 1/4" (0,25KG/M) | E85: geral | F85: m | G85: 70.1 | H85: 9.3 | I85: 10.62 | J85: 19.92 | K85: 651.93 | L85: 744.46 | M85: 1396.39 | N85: =M85/$M$292 -> 0.0019583701
A86: 7.4.10 | B86: FUES.000733 | C86: Próprio | D86: FORNECIMENTO E INSTALAÇÃO DE CABO DE AÇO 1/8" (0,62KG/M) | E86: geral | F86: m | G86: 95.8 | H86: 9.3 | I86: 4.61 | J86: 13.91 | K86: 890.94 | L86: 441.63 | M86: 1332.57 | N86: =M86/$M$292 -> 0.0018688656
A87: 7.4.11 | B87: FUES.000010 | C87: Próprio | D87: FORNECIMENTO E INSTALAÇÃO DE CHUMBADOR MECÂNICO 1/2"X114MM | E87: geral | F87: unid | G87: 165 | H87: 14.78 | I87: 13.54 | J87: 28.32 | K87: 2438.7 | L87: 2234.1 | M87: 4672.8 | N87: =M87/$M$292 -> 0.0065533782
A88: 7.4.12 | B88: FUES.000370 | C88: Próprio | D88: FORNECIMENTO E INSTALAÇÃO DE PARAFUSO AUTOBROCANTE 14X3/4" COM VEDAÇÃO EPDM | E88: geral | F88: unid | G88: 912 | H88: 0.23 | I88: 0.56 | J88: 0.79 | K88: 209.76 | L88: 510.72 | M88: 720.48 | N88: =M88/$M$292 -> 0.0010104387
A89: 7.4.13 | B89: FUES.000638 | C89: Próprio | D89: FORNECIMENTO E INSTALAÇÃO DE PARAFUSO AUTOBROCANTE 12X2.3/8" COM VEDAÇÃO EPDM | E89: geral | F89: unid | G89: 1209 | H89: 0.23 | I89: 1.29 | J89: 1.52 | K89: 278.07 | L89: 1559.61 | M89: 1837.68 | N89: =M89/$M$292 -> 0.0025772582
A90: 7.5 | D90: ABRIGO ELETRICA
A91: 7.5.1 | B91: 96616 | C91: SINAPI | D91: LASTRO DE CONCRETO MAGRO, APLICADO EM BLOCOS | E91: geral | F91: m³ | G91: 0.2 | H91: 280.23 | I91: 432.2 | J91: 712.43 | K91: 56.04 | L91: 86.44 | M91: 142.48 | N91: =M91/$M$292 -> 0.00019982138
A92: 7.5.2 | B92: 101792 | C92: SINAPI | D92: FORMA DE MADEIRA E= 2,5 CM PARA LAJES | E92: geral | F92: m² | G92: 3.6 | H92: 7.39 | I92: 13.5 | J92: 20.89 | K92: 26.6 | L92: 48.6 | M92: 75.2 | N92: =M92/$M$292 -> 0.0001054644
A93: 7.5.3 | B93: 92768 | C93: SINAPI | D93: CORTE E DOBRA AÇO CA-50 ⱷ 5,00 MM DE LAJES | E93: geral | F93: kgf | G93: 10.8 | H93: 4.27 | I93: 10.64 | J93: 14.91 | K93: 46.11 | L93: 114.91 | M93: 161.02 | N93: =M93/$M$292 -> 0.00022582284
A94: 7.5.4 | B94: 92770 | C94: SINAPI | D94: CORTE E DOBRA AÇO CA-50 ⱷ 8,00 MM DE LAJES | E94: geral | F94: kgf | G94: 55 | H94: 1.7 | I94: 11.45 | J94: 13.15 | K94: 93.5 | L94: 629.75 | M94: 723.25 | N94: =M94/$M$292 -> 0.0010143235
A95: 7.5.5 | B95: 89480 | C95: SINAPI | D95: ALVENARIA DE BLOCOS DE CONCRETO ESTRUTURAL 14X19X29 CM (ESPESSURA 14 CM) | E95: geral | F95: m² | G95: 17.8 | H95: 54.37 | I95: 107.83 | J95: 162.2 | K95: 967.78 | L95: 1919.38 | M95: 2887.16 | N95: =M95/$M$292 -> 0.0040491036
A96: 7.5.6 | B96: 89996 | C96: SINAPI | D96: ARMAÇÃO VERTICAL DE ALVENARIA ESTRUTURAL; DIÂMETRO DE 10,0 MM | E96: geral | F96: kgf | G96: 6.2 | H96: 2.42 | I96: 9.22 | J96: 11.64 | K96: 15 | L96: 57.16 | M96: 72.16 | N96: =M96/$M$292 -> 0.00010120094
A97: 7.5.7 | B97: FUES.000014 | C97: Próprio | D97: CONCRETO FCK 25 MPA USINADO | E97: geral | F97: m³ | G97: 1 | H97: 292.48 | I97: 604.92 | J97: 897.4 | K97: 292.48 | L97: 604.92 | M97: 897.4 | N97: =M97/$M$292 -> 0.0012585605
A98: 7.5.8 | B98: 103673 | C98: SINAPI | D98: LANÇAMENTO DOM USO DE BOMBAS PARA CONCRETO | E98: geral | F98: m³ | G98: =G97 -> 1 | H98: 38.14 | I98: 6.64 | J98: 44.78 | K98: 38.14 | L98: 6.64 | M98: 44.78 | N98: =M98/$M$292 -> 6.2801805e-05
A99: 7.5.9 | B99: 90282 | C99: SINAPI | D99: GRAUTE FGK=15 MPA | E99: geral | F99: m³ | G99: 1 | H99: 71.79 | I99: 466.69 | J99: 538.48 | K99: 71.79 | L99: 466.69 | M99: 538.48 | N99: =M99/$M$292 -> 0.00075519241
A100: 7.6 | D100: COBERTURA
...
